{"text_format":"1","workbook":"xlsx","n_sheets":2,"sheets":["ディスク容量計算","マスタ"],"not_rendered":{"charts":0,"images":0,"macros":1,"external_links":0,"defined_names":2,"comments":0,"pivot_tables":0},"unopened":[],"bounds":{"document_bytes":16777216,"sheet_cells":100000,"rows_first":2000,"rows_last":500,"rows_between":2000,"halvings":0,"cell_chars":16384,"cell_head_chars":4096},"cells_cut":0,"cells_raw":0,"read":"whole","date_system":"1900"}

{"sheet":"ディスク容量計算","index":0,"n_rows":37,"n_cols":7,"rows_kept":37,"cut":false,"hidden":false,"merged":[[1,1,1,7]]}
[]
[]
[null,null,null,null,null,"作成","2022年4月　MESW"]
[]
[null,"本ファイルは、収集データの保存に必要なディスク容量（目安）を計算するためのファイルです。"]
[null,"入力セルにデータ収集条件を入力することで、必要なディスク容量（目安）を表示します。"]
[]
[]
[null,null,"【データ収集条件】"]
[null,null,null,"項目","値"]
[null,null,null,"収集点数 （ワード点数）※1",1024,null,"入力セル"]
[null,null,null,"収集周期 （msec）",100]
[null,null,null,"保存日数 （日）",30]
[null,null,null,"※1　ワード単位の点数を入力してください。"]
[null,null,null,"　　　ビットデバイスは１点、ダブルワードは２点として入力してください。"]
[]
[null,null,"【必要なディスク容量】"]
[null,null,null,"項目","容量（GB）","容量（TB）"]
[null,null,null,"必要なディスク容量",{"$f":"マスタ!H11*E13","v":18.541406250000001},{"$f":"E19/1024","v":1.8106842041015626E-2}]
[]
[null,null,"【必要なディスク容量（収集周期毎）】"]
[null,null,null,"収集周期 (msec)","1日分の容量(GB)",{"$f":"E13","v":30},"（TB）"]
[null,null,null,1,{"$f":"(マスタ!C7*マスタ!$H$9)/1024","v":61.8046875},{"$f":"(E23*$E$13)","v":1854.140625},{"$f":"F23/1024","v":1.8106842041015625}]
[null,null,null,5,{"$f":"(マスタ!C8*マスタ!$H$9)/1024","v":12.3609375},{"$f":"(E24*$E$13)","v":370.828125},{"$f":"F24/1024","v":0.3621368408203125}]
[null,null,null,10,{"$f":"(マスタ!C9*マスタ!$H$9)/1024","v":6.1804687500000002},185.4140625,{"$f":"F25/1024","v":0.18106842041015625}]
[null,null,null,20,{"$f":"(マスタ!C10*マスタ!$H$9)/1024","v":3.0902343750000001},92.70703125,{"$f":"F26/1024","v":9.0534210205078125E-2}]
[null,null,null,50,{"$f":"(マスタ!C11*マスタ!$H$9)/1024","v":1.2360937500000002},37.082812500000003,3.6213684082031253E-2]
[null,null,null,100,{"$f":"(マスタ!C12*マスタ!$H$9)/1024","v":0.61804687500000011},18.541406250000001,1.8106842041015626E-2]
[null,null,null,200,{"$f":"(マスタ!C13*マスタ!$H$9)/1024","v":0.30902343750000005},9.2707031250000007,9.0534210205078132E-3]
[null,null,null,500,{"$f":"(マスタ!C14*マスタ!$H$9)/1024","v":0.12360937500000001},3.7082812500000002,3.6213684082031252E-3]
[null,null,null,1000,{"$f":"(マスタ!C15*マスタ!$H$9)/1024","v":6.1804687500000004E-2},{"$f":"(E31*$E$13)","v":1.8541406250000001},{"$f":"F31/1024","v":1.8106842041015626E-3}]
[null,null,null,2000,{"$f":"(マスタ!C16*マスタ!$H$9)/1024","v":3.0902343750000002E-2},0.92707031250000005,9.053421020507813E-4]
[null,null,null,5000,{"$f":"(マスタ!C17*マスタ!$H$9)/1024","v":1.23609375E-2},{"$f":"(E33*$E$13)","v":0.37082812500000001},{"$f":"F33/1024","v":3.6213684082031251E-4}]
[null,null,null,10000,{"$f":"(マスタ!C18*マスタ!$H$9)/1024","v":6.1804687500000002E-3},0.1854140625,1.8106842041015625E-4]
[null,null,null,20000,{"$f":"(マスタ!C19*マスタ!$H$9)/1024","v":3.0902343750000001E-3},9.2707031250000002E-2,9.0534210205078127E-5]
[null,null,null,30000,{"$f":"(マスタ!C20*マスタ!$H$9)/1024","v":2.0601562499999999E-3},{"$f":"(E36*$E$13)","v":6.1804687499999997E-2},{"$f":"F36/1024","v":6.0356140136718747E-5}]
[null,null,null,60000,{"$f":"(マスタ!C21*マスタ!$H$9)/1024","v":1.030078125E-3},3.0902343749999998E-2,3.0178070068359373E-5]

{"sheet":"マスタ","index":1,"n_rows":21,"n_cols":8,"rows_kept":21,"cut":false,"hidden":true,"merged":[]}
[null,null,null,null,null,null,null,"(社外秘)"]
[]
[]
[null,"■収集周期と蓄積ファイル数",null,null,"■Windowsファイル圧縮",null,"■収集データ容量計算式"]
[]
[null,"収集周期（ms）","1日分のファイル数",null,"圧縮係数",null,null,"HR"]
[null,1,{"$f":"((24*60*60)/(0.001*B7))/10000","v":8640},null,0.2,null,"グループ数",64]
[null,5,{"$f":"((24*60*60)/(0.001*B8))/10000","v":1728},null,"※値変化少=",0.15,"1ﾌｧｲﾙｻｲｽﾞ(MB)",{"$f":"((ディスク容量計算!E11/H7*2+28)*10000+64)/1024/1024*H7","v":36.625}]
[null,10,864,null,"※値変化多=",0.35,"圧縮後(MB)",{"$f":"H8*マスタ!$E$7","v":7.3250000000000002}]
[null,20,432,null,null,null,"1日分のﾌｧｲﾙ数",{"$f":"((24*60*60)/(0.001*ディスク容量計算!E12))/10000","v":86.4}]
[null,50,172.8,null,null,null,"1日分の容量(GB)",{"$f":"H10*H9/1024","v":0.61804687500000011}]
[null,100,86.4]
[null,200,43.2]
[null,500,17.28]
[null,1000,8.64]
[null,2000,4.32]
[null,5000,1.728]
[null,10000,{"$f":"((24*60*60)/(0.001*B18))/10000","v":0.86399999999999999}]
[null,20000,0.432]
[null,30000,0.28799999999999998]
[null,60000,{"$f":"((24*60*60)/(0.001*B21))/10000","v":0.14399999999999999}]